BEGIN:VCALENDAR
VERSION:2.0
PRODID:-//hrebaconnect.org//NONSGML kigkonsult.se iCalcreator 2.30.10//
CALSCALE:GREGORIAN
METHOD:PUBLISH
UID:42d1d856-f869-43d0-be40-e4a86ffae865
X-WR-CALDESC:The programs committee will debrief on the luncheon and plan f
 or next one.
X-WR-RELCALID:ef43c14124415651181ed8a3d2ed985c
X-WR-TIMEZONE:America/Chicago
BEGIN:VTIMEZONE
TZID:America/Chicago
BEGIN:STANDARD
TZNAME:CST
DTSTART:20251102T020000
TZOFFSETFROM:-0500
TZOFFSETTO:-0600
RDATE:20261101T020000
RDATE:20271107T020000
END:STANDARD
BEGIN:DAYLIGHT
TZNAME:CDT
DTSTART:20260308T020000
TZOFFSETFROM:-0600
TZOFFSETTO:-0500
RDATE:20270314T020000
END:DAYLIGHT
END:VTIMEZONE
BEGIN:VEVENT
UID:66216651-8647-4468-8c00-779ba8fb4df7
DTSTAMP:20260425T105903Z
DESCRIPTION:The programs committee will debrief on the luncheon and plan fo
 r next one.
DTSTART;TZID=America/Chicago:20260529T093000
DTEND;TZID=America/Chicago:20260529T100000
LOCATION:https://teams.microsoft.com/l/meetup-join/19%3ameeting_MTZiZmI2YjE
 tZWM1Ny00N2RlLWJkMWQtMjgzMDJmMjYzNmUy%40thread.v2/0?context=%7b%22Tid%22%3
 a%2286886b61-d422-45ee-ba8d-881c40928a09%22%2c%22Oid%22%3a%223d1066d2-40e1
 -4e4d-8e2c-4ad08ff748f9%22%7d
SUMMARY:HREBA Programs Committee Meeting
END:VEVENT
END:VCALENDAR
