BEGIN:VCALENDAR
VERSION:2.0
PRODID:-//hrebaconnect.org//NONSGML kigkonsult.se iCalcreator 2.30.10//
CALSCALE:GREGORIAN
METHOD:PUBLISH
UID:a2f10750-7674-46d0-840f-c8bfd46553f5
X-WR-CALDESC:
X-WR-RELCALID:28c0e917c59dfe98aac67eb3ddcbd8cd
X-WR-TIMEZONE:America/Chicago
BEGIN:VTIMEZONE
TZID:America/Chicago
BEGIN:STANDARD
TZNAME:CST
DTSTART:20251102T020000
TZOFFSETFROM:-0500
TZOFFSETTO:-0600
RDATE:20261101T020000
RDATE:20271107T020000
END:STANDARD
BEGIN:DAYLIGHT
TZNAME:CDT
DTSTART:20260308T020000
TZOFFSETFROM:-0600
TZOFFSETTO:-0500
RDATE:20270314T020000
END:DAYLIGHT
END:VTIMEZONE
BEGIN:VEVENT
UID:dd7da161-95e3-4ae1-ba83-c74767910c0d
DTSTAMP:20260423T102214Z
DESCRIPTION:
DTSTART;TZID=America/Chicago:20260518T093000
DTEND;TZID=America/Chicago:20260518T103000
LOCATION:https://teams.microsoft.com/l/meetup-join/19%3ameeting_NjViOTQ4NDI
 tYjAyMi00YzAzLWJmZGUtOTA2ZTM2OGVjY2Y1%40thread.v2/0?context=%7b%22Tid%22%3
 a%2286886b61-d422-45ee-ba8d-881c40928a09%22%2c%22Oid%22%3a%223d1066d2-40e1
 -4e4d-8e2c-4ad08ff748f9%22%7d
SUMMARY:HREBA Community Outreach Committee Meeting
END:VEVENT
END:VCALENDAR
