BEGIN:VCALENDAR
VERSION:2.0
PRODID:-//hrebaconnect.org//NONSGML kigkonsult.se iCalcreator 2.30.10//
CALSCALE:GREGORIAN
METHOD:PUBLISH
UID:96c26298-a3e8-42ef-8530-81f5aef41baf
X-WR-CALDESC:FREE CE Sponsored by NBT Financial
X-WR-RELCALID:49cfa7d3b17a2d0bcb0b572b9305ddc0
X-WR-TIMEZONE:America/Chicago
BEGIN:VTIMEZONE
TZID:America/Chicago
BEGIN:STANDARD
TZNAME:CST
DTSTART:20211107T020000
TZOFFSETFROM:-0500
TZOFFSETTO:-0600
RDATE:20221106T020000
RDATE:20231105T020000
END:STANDARD
BEGIN:DAYLIGHT
TZNAME:CDT
DTSTART:20220313T020000
TZOFFSETFROM:-0600
TZOFFSETTO:-0500
RDATE:20230312T020000
RDATE:20240310T020000
END:DAYLIGHT
END:VTIMEZONE
BEGIN:VEVENT
UID:1a9ce3e8-6c40-43f6-9790-7277954157a0
DTSTAMP:20260422T090831Z
DESCRIPTION:FREE CE Sponsored by NBT Financial
DTSTART;TZID=America/Chicago:20221020T100000
DTEND;TZID=America/Chicago:20221020T110000
LOCATION:https://bit.ly/HREBA-CE-102022
SUMMARY:FREE CE Class VIA ZOOM!
END:VEVENT
END:VCALENDAR
