BEGIN:VCALENDAR
VERSION:2.0
PRODID:-//hrebaconnect.org//NONSGML kigkonsult.se iCalcreator 2.30.10//
CALSCALE:GREGORIAN
METHOD:PUBLISH
UID:fa017076-bd39-4129-b99b-02c74552db7c
X-WR-CALDESC:Shady Valley Country Club
X-WR-RELCALID:9eba434ee7c25aecfddb522c09ee8b79
X-WR-TIMEZONE:America/Chicago
BEGIN:VTIMEZONE
TZID:America/Chicago
BEGIN:STANDARD
TZNAME:CST
DTSTART:20251102T020000
TZOFFSETFROM:-0500
TZOFFSETTO:-0600
RDATE:20261101T020000
RDATE:20271107T020000
END:STANDARD
BEGIN:DAYLIGHT
TZNAME:CDT
DTSTART:20260308T020000
TZOFFSETFROM:-0600
TZOFFSETTO:-0500
RDATE:20270314T020000
RDATE:20280312T020000
END:DAYLIGHT
END:VTIMEZONE
BEGIN:VEVENT
UID:88dad7ce-5f27-4753-9815-7e0d0ac952bd
DTSTAMP:20260421T131333Z
DESCRIPTION:Shady Valley Country Club
DTSTART;TZID=America/Chicago:20261102T073000
DTEND;TZID=America/Chicago:20261102T150000
LOCATION:4001 W Park Row Dr\, Arlington\, TX 76013 US
SUMMARY:10th Annual HREBA Benefit Golf Tournament
END:VEVENT
END:VCALENDAR
